BEGIN:VCALENDAR
VERSION:2.0
PRODID:-//45.56.68.247//NONSGML kigkonsult.se iCalcreator 2.16.12//
X-WR-TIMEZONE:
BEGIN:VEVENT
UID:6960a89efcc201965e6913d703abb8ef
DTSTAMP:20260421T080102Z
DESCRIPTION:
DTSTART:20161019T000000
DTEND:20161021T150000
SUMMARY:No School (CEA Convention)
URL:
END:VEVENT
END:VCALENDAR
