BEGIN:VCALENDAR
VERSION:2.0
PRODID:-//45.56.68.247//NONSGML kigkonsult.se iCalcreator 2.16.12//
X-WR-TIMEZONE:
BEGIN:VEVENT
UID:c2d17238fd6d8ad4f463de8854a0898b
DTSTAMP:20260421T080230Z
DESCRIPTION:
DTSTART:20260326T190000
DTEND:20260326T080000
SUMMARY:8th Grade Musical - Aladdin 
URL:
END:VEVENT
END:VCALENDAR
