BEGIN:VCALENDAR
VERSION:2.0
PRODID:-//45.56.68.247//NONSGML kigkonsult.se iCalcreator 2.16.12//
X-WR-TIMEZONE:
BEGIN:VEVENT
UID:8e2aa708793acb80b8eddcdd06c683b7
DTSTAMP:20260421T080026Z
DESCRIPTION:Drop off between 7:45am - 3:15pm 
DTSTART:20221207T074500
DTEND:20221209T154500
SUMMARY:Stuff-a-Bus for Dégagé Ministries
URL:
END:VEVENT
END:VCALENDAR
