BEGIN:VCALENDAR
VERSION:2.0
PRODID:-//45.56.68.247//NONSGML kigkonsult.se iCalcreator 2.16.12//
X-WR-TIMEZONE:
BEGIN:VEVENT
UID:e2a862b87e871a18e432cfafa04a36de
DTSTAMP:20260421T081028Z
DESCRIPTION:
DTSTART:20190606T190000
DTEND:20190606T200000
SUMMARY:8th Grade Graduation
URL:
END:VEVENT
END:VCALENDAR
