BEGIN:VCALENDAR
VERSION:2.0
PRODID:-//45.56.68.247//NONSGML kigkonsult.se iCalcreator 2.16.12//
X-WR-TIMEZONE:
BEGIN:VEVENT
UID:876ea94ac705c7db0588d5f9e20d007e
DTSTAMP:20260419T124625Z
DESCRIPTION:
DTSTART:20170901T080000
DTEND:20170901T150000
SUMMARY:No School - Labor Day Weekend
URL:
END:VEVENT
END:VCALENDAR
