BEGIN:VCALENDAR
VERSION:2.0
PRODID:-//45.56.68.247//NONSGML kigkonsult.se iCalcreator 2.16.12//
X-WR-TIMEZONE:
BEGIN:VEVENT
UID:b57ba12804c4d12cf98c356692b29630
DTSTAMP:20260421T080146Z
DESCRIPTION:
DTSTART:20170925T080000
DTEND:20170925T160000
SUMMARY:No School (Professional Development)
URL:
END:VEVENT
END:VCALENDAR
