BEGIN:VCALENDAR
VERSION:2.0
PRODID:-//45.56.68.247//NONSGML kigkonsult.se iCalcreator 2.16.12//
X-WR-TIMEZONE:
BEGIN:VEVENT
UID:a83fb9644996b83a001aeb93d40a5603
DTSTAMP:20260419T125303Z
DESCRIPTION:ACS + KDL. Come for an evening of book readings every Monday ni
 ght.
DTSTART:20170724T190000
DTEND:20170724T194500
SUMMARY:Summer Story Night: \'Books\'
URL:
END:VEVENT
END:VCALENDAR
